BEGIN:VCALENDAR
VERSION:2.0
PRODID:-//UVV Nijkerk - ECPv6.15.20//NONSGML v1.0//EN
CALSCALE:GREGORIAN
METHOD:PUBLISH
X-WR-CALNAME:UVV Nijkerk
X-ORIGINAL-URL:https://www.uvv-nijkerk.nl
X-WR-CALDESC:Evenementen voor UVV Nijkerk
REFRESH-INTERVAL;VALUE=DURATION:PT1H
X-Robots-Tag:noindex
X-PUBLISHED-TTL:PT1H
BEGIN:VTIMEZONE
TZID:UTC
BEGIN:STANDARD
TZOFFSETFROM:+0000
TZOFFSETTO:+0000
TZNAME:UTC
DTSTART:20250101T000000
END:STANDARD
END:VTIMEZONE
BEGIN:VEVENT
DTSTART;TZID=UTC:20261005T090000
DTEND;TZID=UTC:20261008T170000
DTSTAMP:20260419T124927
CREATED:20251229T084926Z
LAST-MODIFIED:20260119T100756Z
UID:10005380-1791190800-1791478800@www.uvv-nijkerk.nl
SUMMARY:NijkerkseFiets4Daagse
DESCRIPTION:Het gezelligste fietsevenement van Nijkerk \nGezelligheid staat centraal tijdens de Nijkerkse Fiets4daagse. Samen fietsen\, samen lachen en samen genieten – dát is waar dit evenement om draait. Vier dagen lang trek je eropuit door het prachtige landschap rondom Nijkerk\, langs kabbelend water\, kleurrijke bloemen en schaduwrijke bomen. Onderweg hoor je vogels fluiten\, zie je vlinders dansen en wie weet spot je zelfs een vos of een ree. \nDe Fiets4daagse is een leuke uitdaging voor iedereen: met vrienden\, familie\, je club of vereniging 😉 Of je nu alleen fietst of samen op pad gaat\, iedereen is welkom. Ook fietsers met een scootmobiel of driewielfiets doen gezellig mee. \nSamen meedoen aan de Nijkerkse Fiets4daagse is ieder jaar weer één van de leukste momenten van het jaar. Fiets je mee?
URL:https://www.uvv-nijkerk.nl/event/nijkerksefiets4daagse/
LOCATION:NSC
ATTACH;FMTTYPE=image/png:https://www.uvv-nijkerk.nl/cms/wp-content/uploads/2023/12/kerstgroet2.png
END:VEVENT
END:VCALENDAR